BEGIN:VCALENDAR
VERSION:2.0
PRODID:-//Pacific Pearl of La Jolla - ECPv6.15.20//NONSGML v1.0//EN
CALSCALE:GREGORIAN
METHOD:PUBLISH
X-WR-CALNAME:Pacific Pearl of La Jolla
X-ORIGINAL-URL:https://pacificpearllajolla.com
X-WR-CALDESC:Events for Pacific Pearl of La Jolla
REFRESH-INTERVAL;VALUE=DURATION:PT1H
X-Robots-Tag:noindex
X-PUBLISHED-TTL:PT1H
BEGIN:VTIMEZONE
TZID:America/Los_Angeles
BEGIN:DAYLIGHT
TZOFFSETFROM:-0800
TZOFFSETTO:-0700
TZNAME:PDT
DTSTART:20160313T100000
END:DAYLIGHT
BEGIN:STANDARD
TZOFFSETFROM:-0700
TZOFFSETTO:-0800
TZNAME:PST
DTSTART:20161106T090000
END:STANDARD
BEGIN:DAYLIGHT
TZOFFSETFROM:-0800
TZOFFSETTO:-0700
TZNAME:PDT
DTSTART:20170312T100000
END:DAYLIGHT
BEGIN:STANDARD
TZOFFSETFROM:-0700
TZOFFSETTO:-0800
TZNAME:PST
DTSTART:20171105T090000
END:STANDARD
BEGIN:DAYLIGHT
TZOFFSETFROM:-0800
TZOFFSETTO:-0700
TZNAME:PDT
DTSTART:20180311T100000
END:DAYLIGHT
BEGIN:STANDARD
TZOFFSETFROM:-0700
TZOFFSETTO:-0800
TZNAME:PST
DTSTART:20181104T090000
END:STANDARD
BEGIN:DAYLIGHT
TZOFFSETFROM:-0800
TZOFFSETTO:-0700
TZNAME:PDT
DTSTART:20190310T100000
END:DAYLIGHT
BEGIN:STANDARD
TZOFFSETFROM:-0700
TZOFFSETTO:-0800
TZNAME:PST
DTSTART:20191103T090000
END:STANDARD
END:VTIMEZONE
BEGIN:VEVENT
DTSTART;VALUE=DATE:20180922
DTEND;VALUE=DATE:20180927
DTSTAMP:20260423T043338
CREATED:20180718T004333Z
LAST-MODIFIED:20180718T230700Z
UID:6844-1537574400-1538006399@pacificpearllajolla.com
SUMMARY:AIHM Conference at Sheraton San Diego- conference.aihm.org
DESCRIPTION:Academy of Integrative Health & Medicine (AIHM) – “The Inter-professional Health and Medicine Conference of the Year.” \nMimi Guarneri MD\, FACC\, ABOIM\, Medical Director at Guarneri Integrative Health\, Inc.\, Pacific Pearl La Jolla\, is President of the AIHM.  Miraglo Foundation is a sponsor of AIHM. \nMore than 1000 inter-professional clinicians\, researchers and academics are expected to convene in San Diego for advanced lectures\, expert panels. small group discussions\, workshops\, special evening receptions and more. \nSeptember 22 – 26\, 2018. Pre-conference sessions on Sept. 21. Location: Sheraton San Diego. \nSee more at conference.aihm.org.
URL:https://pacificpearllajolla.com/event/aihm-conference-at-sheraton-san-diego-conference-aihm-org/
LOCATION:Sheraton San Diego\, 1380 Harbor Island Dr.\, San Diego\, CA\, 92101\, United States
CATEGORIES:Conference
END:VEVENT
BEGIN:VEVENT
DTSTART;TZID=America/Los_Angeles:20171025T080000
DTEND;TZID=America/Los_Angeles:20171025T180000
DTSTAMP:20260423T043338
CREATED:20170712T233958Z
LAST-MODIFIED:20170712T233958Z
UID:5494-1508918400-1508954400@pacificpearllajolla.com
SUMMARY:Academy of integrative Health & Medicine Conference\, Oct. 22-25
DESCRIPTION:You are invited to the AIHM Annual Conference Oct. 22 – 25\, 2017 – People\, Planet\, Purpose\, at Paradise Point\, CA – the integrative health and medicine conference that is unlike any other event of its kind. Over 1\,100 clinicians are expected to gather together to learn from visionaries in the field\, earn CME/CEU credits and build their personal networks.  Dr. Mimi Guarneri is President of the AIHM\, is a presenter\, adviser and moderator. Attend for a session\, a day or the entire conference. Learn more: https://conference.aihm.org/annual/2017/
URL:https://pacificpearllajolla.com/event/academy-integrative-health-medicine-conference-oct-22-25-3/
LOCATION:Paradise Point Resort & Spa\, Vacation Rd\, San Diego\, CA\, 92109\, United States
CATEGORIES:Conference
END:VEVENT
BEGIN:VEVENT
DTSTART;TZID=America/Los_Angeles:20171024T080000
DTEND;TZID=America/Los_Angeles:20171024T170000
DTSTAMP:20260423T043338
CREATED:20170712T233554Z
LAST-MODIFIED:20170712T233554Z
UID:5492-1508832000-1508864400@pacificpearllajolla.com
SUMMARY:Academy of Integrative Health & Medicine Conference\, Oct 22-25
DESCRIPTION:You are invited to the AIHM Annual Conference Oct. 22 – 25\, 2017 – People\, Planet\, Purpose\, at Paradise Point\, CA – the integrative health and medicine conference that is unlike any other event of its kind. Over 1\,100 clinicians are expected to gather together to learn from visionaries in the field\, earn CME/CEU credits and build their personal networks.  Dr. Mimi Guarneri is President of the AIHM\, is a presenter\, adviser and moderator. Attend for a session\, a day or the entire conference. Learn more: https://conference.aihm.org/annual/2017/
URL:https://pacificpearllajolla.com/event/academy-integrative-health-medicine-conference-oct-22-25-2/
LOCATION:Paradise Point Resort & Spa\, Vacation Rd\, San Diego\, CA\, 92109\, United States
CATEGORIES:Conference
END:VEVENT
BEGIN:VEVENT
DTSTART;TZID=America/Los_Angeles:20171023T080000
DTEND;TZID=America/Los_Angeles:20171023T180000
DTSTAMP:20260423T043338
CREATED:20170712T233442Z
LAST-MODIFIED:20170713T000419Z
UID:5490-1508745600-1508781600@pacificpearllajolla.com
SUMMARY:Academy of Integrative Health & Medicine Conference at Paradise Point CA\, Oct 22-25
DESCRIPTION:You are invited to the AIHM Annual Conference Oct. 22 – 25\, 2017 – People\, Planet\, Purpose\, at Paradise Point\, CA – the integrative health and medicine conference that is unlike any other event of its kind. Over 1\,100 clinicians are expected to gather together to learn from visionaries in the field\, earn CME/CEU credits and build their personal networks.  Dr. Mimi Guarneri is President of the AIHM\, is a presenter\, adviser and moderator. Attend for a session\, a day or the entire conference. Learn more: https://conference.aihm.org/annual/2017/
URL:https://pacificpearllajolla.com/event/academy-integrative-health-medicine-conference-oct-22-25/
LOCATION:Paradise Point Resort & Spa\, Vacation Rd\, San Diego\, CA\, 92109\, United States
CATEGORIES:Conference
END:VEVENT
BEGIN:VEVENT
DTSTART;TZID=America/Los_Angeles:20171022T080000
DTEND;TZID=America/Los_Angeles:20171022T180000
DTSTAMP:20260423T043338
CREATED:20170712T233057Z
LAST-MODIFIED:20170712T233314Z
UID:5487-1508659200-1508695200@pacificpearllajolla.com
SUMMARY:Academy of Integrative Health & Medicine at Paradise Point\, CA. - Oct. 22-25
DESCRIPTION:You are invited to the AIHM Annual Conference Oct. 22 – 25\, 2017 – People\, Planet\, Purpose\, at Paradise Point\, CA – the integrative health and medicine conference that is unlike any other event of its kind. Over 1\,100 clinicians are expected to gather together to learn from visionaries in the field\, earn CME/CEU credits and build their personal networks.  Dr. Mimi Guarneri is President of the AIHM\, is a presenter\, adviser and moderator. Attend for a session\, a day or the entire conference. Learn more: https://conference.aihm.org/annual/2017/
URL:https://pacificpearllajolla.com/event/academy-integrative-health-medicine-paradise-point-ca/
LOCATION:Paradise Point Resort & Spa\, Vacation Rd\, San Diego\, CA\, 92109\, United States
CATEGORIES:Conference
END:VEVENT
END:VCALENDAR