BEGIN:VCALENDAR
VERSION:2.0
PRODID:-//Pacific Pearl of La Jolla - ECPv6.15.20//NONSGML v1.0//EN
CALSCALE:GREGORIAN
METHOD:PUBLISH
X-ORIGINAL-URL:https://pacificpearllajolla.com
X-WR-CALDESC:Events for Pacific Pearl of La Jolla
REFRESH-INTERVAL;VALUE=DURATION:PT1H
X-Robots-Tag:noindex
X-PUBLISHED-TTL:PT1H
BEGIN:VTIMEZONE
TZID:America/Los_Angeles
BEGIN:DAYLIGHT
TZOFFSETFROM:-0800
TZOFFSETTO:-0700
TZNAME:PDT
DTSTART:20150308T100000
END:DAYLIGHT
BEGIN:STANDARD
TZOFFSETFROM:-0700
TZOFFSETTO:-0800
TZNAME:PST
DTSTART:20151101T090000
END:STANDARD
BEGIN:DAYLIGHT
TZOFFSETFROM:-0800
TZOFFSETTO:-0700
TZNAME:PDT
DTSTART:20160313T100000
END:DAYLIGHT
BEGIN:STANDARD
TZOFFSETFROM:-0700
TZOFFSETTO:-0800
TZNAME:PST
DTSTART:20161106T090000
END:STANDARD
BEGIN:DAYLIGHT
TZOFFSETFROM:-0800
TZOFFSETTO:-0700
TZNAME:PDT
DTSTART:20170312T100000
END:DAYLIGHT
BEGIN:STANDARD
TZOFFSETFROM:-0700
TZOFFSETTO:-0800
TZNAME:PST
DTSTART:20171105T090000
END:STANDARD
BEGIN:DAYLIGHT
TZOFFSETFROM:-0800
TZOFFSETTO:-0700
TZNAME:PDT
DTSTART:20180311T100000
END:DAYLIGHT
BEGIN:STANDARD
TZOFFSETFROM:-0700
TZOFFSETTO:-0800
TZNAME:PST
DTSTART:20181104T090000
END:STANDARD
END:VTIMEZONE
BEGIN:VEVENT
DTSTART;VALUE=DATE:20170930
DTEND;VALUE=DATE:20171002
DTSTAMP:20260421T121321
CREATED:20170902T011607Z
LAST-MODIFIED:20170902T011607Z
UID:5797-1506729600-1506902399@pacificpearllajolla.com
SUMMARY:Mindfulness Stress Resilience - Weekend Intensive and weekly online classes
DESCRIPTION:Mindfulness Stress Resilience – Weekend Intensive  September 30 & October 1\, 2017 onsite at Pacific Pearl La Jolla (8 am – 5 pm)  followed by weekly online classes on Thursdays from October 5 to Nov. 9\, 2017 at 6 PM – using Zoom. \nRegister with Peter Kirchmer\, Founder of Mindfulness Based Health Coaching (760) 456-5743. \nCost $550. \nMore information online at http://www.mindfulnessbasedhealth.com/mindfulness-pacific-pearl \n 
URL:https://pacificpearllajolla.com/event/mindfulness-stress-resilience-weekend-intensive-weekly-online-classes/
LOCATION:The Studio at Pacific Pearl\, 6919 La Jolla Blvd\, La Jolla\, CA\, 92037\, United States
CATEGORIES:Training
END:VEVENT
BEGIN:VEVENT
DTSTART;TZID=America/Los_Angeles:20170909T090000
DTEND;TZID=America/Los_Angeles:20170910T170000
DTSTAMP:20260421T121321
CREATED:20170209T224356Z
LAST-MODIFIED:20170209T225202Z
UID:4998-1504947600-1505062800@pacificpearllajolla.com
SUMMARY:Medical Intuitive Training Level 1 - Module 1
DESCRIPTION:Medical Intuitive Level 1 -Module 1 \nCall Wendie Colter\, CEO\, Medical Intuitive\, Instructor \nThe Practical Path\, 877-433-6611     http://www.thepracticalpath.com
URL:https://pacificpearllajolla.com/event/medical-intuitive-training-level-1-module-1/
LOCATION:The Studio at Pacific Pearl\, 6919 La Jolla Blvd\, La Jolla\, CA\, 92037\, United States
CATEGORIES:Training
END:VEVENT
BEGIN:VEVENT
DTSTART;VALUE=DATE:20170505
DTEND;VALUE=DATE:20170508
DTSTAMP:20260421T121321
CREATED:20151230T023859Z
LAST-MODIFIED:20170114T032835Z
UID:3881-1493942400-1494201599@pacificpearllajolla.com
SUMMARY:Ayurvedic Training May 5-7\, 2017
DESCRIPTION:Home \n \nEmail: info@ayurveda-courses.org \nPhone: 877-540-6222 \non-site classroom as part of online training course – see link for more information.
URL:https://pacificpearllajolla.com/event/ayurvedic-training/
LOCATION:The Studio at Pacific Pearl\, 6919 La Jolla Blvd\, La Jolla\, CA\, 92037\, United States
CATEGORIES:Training
END:VEVENT
BEGIN:VEVENT
DTSTART;VALUE=DATE:20170318
DTEND;VALUE=DATE:20170320
DTSTAMP:20260421T121321
CREATED:20170114T032228Z
LAST-MODIFIED:20170114T032313Z
UID:4884-1489795200-1489967999@pacificpearllajolla.com
SUMMARY:Healing Touch Level 2 Training
DESCRIPTION:Healing Touch Level 2 \nWorkshop Information: \n  \nDate: March 18 & 19\,  2017 (Sat. & Sun.) \nTime: 8:30 am – 5:30 pm both days \nLocation: \nPacific Pearl La Jolla  \n6919 La Jolla Blvd. \nLa Jolla\, CA 92037 \nInstructor:  Rauni Prittinen  King RN\, MIH\, \nHNB-BC\, CHTP/I \n  \nClass Information: \nMust have successfully completed level one training to register. \nRequirement for class completion and CE Credit: Attendance at the entire class with supervision. Completion of Evaluation \nAHNA: 17.5 contact hours \nNCBTMB: 17.5 contact hours \nCA Board Registered Nursing: 17.5 contact hours \n  \nPlease register by selecting one: \nCall: (858) 459-6919 \nE-mail: Jeannette Bondurant at   JBondurant@pacificpearllajolla.com \nMail: HIMR Inc. \n6919 La Jolla Blvd\, La Jolla\, CA 92037
URL:https://pacificpearllajolla.com/event/healing-touch-level-2-training/
LOCATION:The Studio at Pacific Pearl\, 6919 La Jolla Blvd\, La Jolla\, CA\, 92037\, United States
CATEGORIES:Training
END:VEVENT
BEGIN:VEVENT
DTSTART;VALUE=DATE:20170301
DTEND;VALUE=DATE:20170306
DTSTAMP:20260421T121321
CREATED:20170114T031839Z
LAST-MODIFIED:20170209T213424Z
UID:4882-1488326400-1488758399@pacificpearllajolla.com
SUMMARY:Integrative Nurse Coach Certificate Program\, module 2
DESCRIPTION:Integrative Nurse Coach Certificate Program \nMarch 1-5\, 2017 (Advanced Module 2) \nPacific Pearl La Jolla\, San Diego\, CA \nEmbark on an Exciting Journey to Reconnect with Your Nursing Vision of Caring and Healing \nIf you are seeking new directions in your nursing practice to support patients in co-creating healthier lifestyles while enhancing your own self-care… \nApply online – www.iNurseCoach.com
URL:https://pacificpearllajolla.com/event/integrative-nurse-coach-certificate-program-module-2/
LOCATION:The Studio at Pacific Pearl\, 6919 La Jolla Blvd\, La Jolla\, CA\, 92037\, United States
CATEGORIES:Training
END:VEVENT
BEGIN:VEVENT
DTSTART;VALUE=DATE:20170225
DTEND;VALUE=DATE:20170227
DTSTAMP:20260421T121321
CREATED:20170114T024216Z
LAST-MODIFIED:20170114T030537Z
UID:4854-1487980800-1488153599@pacificpearllajolla.com
SUMMARY:Healing Touch Level 1 Training
DESCRIPTION:Healing Touch Level 1 \nWorkshop Information: \n  \nDate: February 25 & 26\, 2017 (Sat. & Sun.) \nTime: 8:30 am – 5:30 pm both days \nLocation:  \nPacific Pearl La Jolla\, main entrance \n6919 La Jolla Blvd. \nLa Jolla\, CA 92037 \n  \nInstructor:  Rauni Prittinen  King RN\, MIH\,  \nHNB-BC\, CHTP/I \n  \nClass Information: \nRequirement for class completion and CE Credit: Attendance at the entire class with supervision. Completion of Evaluation  \n  \nAHNA: 17.5 contact hours \nNCBTMB: 17.5 contact hours \nCA Board Registered Nursing: 17.5 contact hours \n  \nPlease register by selecting one: \nCall: (858) 459-6919 \nE-mail: Jeannette Bondurant at   JBondurant@pacificpearllajolla.com  \nMail: HIMR Inc. \n6919 La Jolla Blvd\, La Jolla\, CA 92037 \n  \nA relaxing\, nurturing energy therapy  \n\nUses gentle\, heart-centered touch to assist in balancing Physical\, Mental\, Emotional\, Spiritual well-being.\nEnhances the body’s natural ability to heal through the human bio-field\, energy centers and energy field\nWorks in harmony with standard medical care and is complementary to other health care systems. Safe for all ages.\n\nYou will be Learning: \n\nRegistered nurses\nHealth care professionals\,\nBody-oriented therapists\,\nPsychotherapists\nLicensed health care professionals and individuals\nThose who desire to study energy therapy with a commitment to help others\n\n  \nThis Class: \n\nAcknowledges previous learning\nFurther develops concepts and skills in energy based therapy\nRequires a strong commitment to personal growth.\n\n  \nYou will be Learning: \n\nEnergy system concepts related to health\nBasics and assessment of the energy system – energy field and energy centers and functions\nMeditation for centering and maintaining energetic flow\nPrinciples and practice of Healing Touch for personal and professional use\nMultiple specific energy healing techniques\nPrinciples of self-healing\nPersonal development as a healer\nLegal and professional aspects of touch therapies\, Ethical Conduct and Standards of practice\, and integrity in Healing Touch.\n\nCOST: \nTuition – $340 \nHBB or AHNA member tuition – $315. \nFull time Student – $240. \nRepeat Student   – $225. \nSpecial 50% discount on Student Membership if joining Healing Beyond Borders before class begins. Receive class discount. Join online or by check to HBB $50.00
URL:https://pacificpearllajolla.com/event/healing-touch-level-1-training/
LOCATION:Pacific Pearl La Jolla\, 6919 La Jolla Blvd\, La Jolla\, CA\, 82037\, United States
CATEGORIES:Training
END:VEVENT
BEGIN:VEVENT
DTSTART;TZID=America/Los_Angeles:20170108T080000
DTEND;TZID=America/Los_Angeles:20170108T170000
DTSTAMP:20260421T121321
CREATED:20160921T230525Z
LAST-MODIFIED:20160921T230525Z
UID:4646-1483862400-1483894800@pacificpearllajolla.com
SUMMARY:Medical Intuitive Training Level 2
DESCRIPTION:Medical Intuitive Training – Level 2\n6 Month Program – Attend one Two-Day Intensive Workshop per Month\nCall for exact time of classes each day. Instructor Wendie Colter\, 877-433-6611. \nLocation of classes: \nPacific Pearl La Jolla\n6919 La Jolla Blvd. La Jolla\, CA 92037 \nLevel 2 Program begins in January 2017\nThe Medical Intuitive Training program is presented in six weekend modules with extensive in-class experience and coursework\, plus conference calls between modules. \nMedical Intuitive certificate presented on completion.\nCE Credits for Nurses (CEP# 16478) and Massage Therapists/Bodyworkers (NCBTMB #365).\nTuition and Information: www.ThePracticalPath.com Call: 1-877-433-6611 \n2017 Level 2 Modules \nModule 1: \nProgram A: (Sat/Sun): Jan. 7 & 8\n\nModule 2: \nProgram A (Sat/Sun): Feb. 4 & 5 \nModule 3: \nProgram A (Sat/Sun): Mar 11 & 12 \nModule 4:\nProgram A (Sat/Sun) Apr. 8 & 9 \nModule 5:\nProgram A (Sat/Sun) May 6 & 7 \nModule 6:\nProgram A (Sat/Sun) Jun. 10 & 11
URL:https://pacificpearllajolla.com/event/medical-intuitive-training-level-2-2/
LOCATION:The Studio at Pacific Pearl\, 6919 La Jolla Blvd\, La Jolla\, CA\, 92037\, United States
CATEGORIES:Training
END:VEVENT
BEGIN:VEVENT
DTSTART;TZID=America/Los_Angeles:20170107T080000
DTEND;TZID=America/Los_Angeles:20170107T170000
DTSTAMP:20260421T121321
CREATED:20160921T230424Z
LAST-MODIFIED:20160921T230424Z
UID:4644-1483776000-1483808400@pacificpearllajolla.com
SUMMARY:Medical Intuitive Training Level 2
DESCRIPTION:Medical Intuitive Training – Level 2\n6 Month Program – Attend one Two-Day Intensive Workshop per Month\nCall for exact time of classes each day. Instructor Wendie Colter\, 877-433-6611. \nLocation of classes: \nPacific Pearl La Jolla\n6919 La Jolla Blvd. La Jolla\, CA 92037 \nLevel 2 Program begins in January 2017\nThe Medical Intuitive Training program is presented in six weekend modules with extensive in-class experience and coursework\, plus conference calls between modules. \nMedical Intuitive certificate presented on completion.\nCE Credits for Nurses (CEP# 16478) and Massage Therapists/Bodyworkers (NCBTMB #365).\nTuition and Information: www.ThePracticalPath.com Call: 1-877-433-6611 \n2017 Level 2 Modules \nModule 1: \nProgram A: (Sat/Sun): Jan. 7 & 8\n\nModule 2: \nProgram A (Sat/Sun): Feb. 4 & 5 \nModule 3: \nProgram A (Sat/Sun): Mar 11 & 12 \nModule 4:\nProgram A (Sat/Sun) Apr. 8 & 9 \nModule 5:\nProgram A (Sat/Sun) May 6 & 7 \nModule 6:\nProgram A (Sat/Sun) Jun. 10 & 11
URL:https://pacificpearllajolla.com/event/medical-intuitive-training-level-2/
LOCATION:The Studio at Pacific Pearl\, 6919 La Jolla Blvd\, La Jolla\, CA\, 92037\, United States
CATEGORIES:Training
END:VEVENT
BEGIN:VEVENT
DTSTART;TZID=America/Los_Angeles:20161211T080000
DTEND;TZID=America/Los_Angeles:20161211T170000
DTSTAMP:20260421T121321
CREATED:20160910T015845Z
LAST-MODIFIED:20160921T225758Z
UID:4572-1481443200-1481475600@pacificpearllajolla.com
SUMMARY:Medical Intuitive Training - Level 1 session 4
DESCRIPTION:Medical Intuitive Training – Level 1\n 4 Month Program – Attend one Two-Day Intensive Workshop per Month\nCall for exact time of classes each day. Instructor Wendie Colter\, 877-433-6611. \nLocation of classes: \nPacific Pearl La Jolla\n6919 La Jolla Blvd. La Jolla\, CA 92037 \nLevel 1 Program begins in September\nThe Medical Intuitive Training program is presented in four weekend modules with extensive in-class experience and coursework\, plus three conference calls between modules. \nMedical Intuitive certificate presented on completion.\n CE Credits for Nurses (CEP# 16478) and Massage Therapists/Bodyworkers (NCBTMB #365).\nTuition: $1597\nInformation: www.ThePracticalPath.com Call: 1-877-433-6611 \n2016 Level 1 Modules \nModule 1: Energy Anatomy and Intuitive Assessments\nProgram A: (Sat/Sun): Sept 10-11\nProgram B: (Mon/Tues): Sept 12-13 (alternate dates)\n\nModule 2: Major Energy Centers and Chronic Patterns\nProgram A (Sat/Sun): Oct. 8-9 \nModule 3: Energetic Structures in the Physical Anatomy\nProgram A (Sat/Sun): Nov. 12-13 \nModule 4: Original Trauma Points and Permissions to Heal\nProgram A (Sat/Sun) Dec. 10-11
URL:https://pacificpearllajolla.com/event/medical-intuitive-training-level-1-session-4-2/
LOCATION:The Studio at Pacific Pearl\, 6919 La Jolla Blvd\, La Jolla\, CA\, 92037\, United States
CATEGORIES:Training
END:VEVENT
BEGIN:VEVENT
DTSTART;TZID=America/Los_Angeles:20161210T080000
DTEND;TZID=America/Los_Angeles:20161210T170000
DTSTAMP:20260421T121321
CREATED:20160910T015721Z
LAST-MODIFIED:20160910T015721Z
UID:4570-1481356800-1481389200@pacificpearllajolla.com
SUMMARY:Medical Intuitive Training - Level 1 session 4
DESCRIPTION:Medical Intuitive Training – Level 1\n 4 Month Program – Attend one Two-Day Intensive Workshop per Month\nCall for exact time of classes each day. Instructor Wendie Colter\, 877-433-6611. \nLocation of classes: \nPacific Pearl La Jolla\n6919 La Jolla Blvd. La Jolla\, CA 92037 \nLevel 1 Program begins in September\nThe Medical Intuitive Training program is presented in four weekend modules with extensive in-class experience and coursework\, plus three conference calls between modules. \nMedical Intuitive certificate presented on completion.\n CE Credits for Nurses (CEP# 16478) and Massage Therapists/Bodyworkers (NCBTMB #365).\nTuition: $1597\nInformation: www.ThePracticalPath.com Call: 1-877-433-6611 \n2016 Level 1 Modules \nModule 1: Energy Anatomy and Intuitive Assessments\nProgram A: (Sat/Sun): Sept 10-11\nProgram B: (Mon/Tues): Sept 12-13 (alternate dates)\n\nModule 2: Major Energy Centers and Chronic Patterns\nProgram A (Sat/Sun): Oct. 8-9 \nModule 3: Energetic Structures in the Physical Anatomy\nProgram A (Sat/Sun): Nov. 12-13 \nModule 4: Original Trauma Points and Permissions to Heal\nProgram A (Sat/Sun) Dec. 10-11
URL:https://pacificpearllajolla.com/event/medical-intuitive-training-level-1-session-4/
LOCATION:The Studio at Pacific Pearl\, 6919 La Jolla Blvd\, La Jolla\, CA\, 92037\, United States
CATEGORIES:Training
END:VEVENT
BEGIN:VEVENT
DTSTART;TZID=America/Los_Angeles:20161113T080000
DTEND;TZID=America/Los_Angeles:20161113T170000
DTSTAMP:20260421T121321
CREATED:20160910T015943Z
LAST-MODIFIED:20160910T015943Z
UID:4574-1479024000-1479056400@pacificpearllajolla.com
SUMMARY:Medical Intuitive Training - Level 1 session 3
DESCRIPTION:Medical Intuitive Training – Level 1\n 4 Month Program – Attend one Two-Day Intensive Workshop per Month\nCall for exact time of classes each day. Instructor Wendie Colter\, 877-433-6611. \nLocation of classes: \nPacific Pearl La Jolla\n6919 La Jolla Blvd. La Jolla\, CA 92037 \nLevel 1 Program begins in September\nThe Medical Intuitive Training program is presented in four weekend modules with extensive in-class experience and coursework\, plus three conference calls between modules. \nMedical Intuitive certificate presented on completion.\n CE Credits for Nurses (CEP# 16478) and Massage Therapists/Bodyworkers (NCBTMB #365).\nTuition: $1597\nInformation: www.ThePracticalPath.com Call: 1-877-433-6611 \n2016 Level 1 Modules \nModule 1: Energy Anatomy and Intuitive Assessments\nProgram A: (Sat/Sun): Sept 10-11\nProgram B: (Mon/Tues): Sept 12-13 (alternate dates)\n\nModule 2: Major Energy Centers and Chronic Patterns\nProgram A (Sat/Sun): Oct. 8-9 \nModule 3: Energetic Structures in the Physical Anatomy\nProgram A (Sat/Sun): Nov. 12-13 \nModule 4: Original Trauma Points and Permissions to Heal\nProgram A (Sat/Sun) Dec. 10-11
URL:https://pacificpearllajolla.com/event/medical-intuitive-training-level-1-session-3/
LOCATION:The Studio at Pacific Pearl\, 6919 La Jolla Blvd\, La Jolla\, CA\, 92037\, United States
CATEGORIES:Training
END:VEVENT
BEGIN:VEVENT
DTSTART;TZID=America/Los_Angeles:20161112T080000
DTEND;TZID=America/Los_Angeles:20161112T170000
DTSTAMP:20260421T121321
CREATED:20160910T015550Z
LAST-MODIFIED:20160910T020156Z
UID:4568-1478937600-1478970000@pacificpearllajolla.com
SUMMARY:Medical Intuitive Training - Level 1 session 3
DESCRIPTION:Medical Intuitive Training – Level 1\n 4 Month Program – Attend one Two-Day Intensive Workshop per Month\nCall for exact time of classes each day. Instructor Wendie Colter\, 877-433-6611. \nLocation of classes: \nPacific Pearl La Jolla\n6919 La Jolla Blvd. La Jolla\, CA 92037 \nLevel 1 Program begins in September\nThe Medical Intuitive Training program is presented in four weekend modules with extensive in-class experience and coursework\, plus three conference calls between modules. \nMedical Intuitive certificate presented on completion.\n CE Credits for Nurses (CEP# 16478) and Massage Therapists/Bodyworkers (NCBTMB #365).\nTuition: $1597\nInformation: www.ThePracticalPath.com Call: 1-877-433-6611 \n2016 Level 1 Modules \nModule 1: Energy Anatomy and Intuitive Assessments\nProgram A: (Sat/Sun): Sept 10-11\nProgram B: (Mon/Tues): Sept 12-13 (alternate dates)\n\nModule 2: Major Energy Centers and Chronic Patterns\nProgram A (Sat/Sun): Oct. 8-9 \nModule 3: Energetic Structures in the Physical Anatomy\nProgram A (Sat/Sun): Nov. 12-13 \nModule 4: Original Trauma Points and Permissions to Heal\nProgram A (Sat/Sun) Dec. 10-11
URL:https://pacificpearllajolla.com/event/medical-intuitive-training-level-1-session-2-2/
LOCATION:The Studio at Pacific Pearl\, 6919 La Jolla Blvd\, La Jolla\, CA\, 92037\, United States
CATEGORIES:Training
END:VEVENT
BEGIN:VEVENT
DTSTART;TZID=America/Los_Angeles:20161009T080000
DTEND;TZID=America/Los_Angeles:20161009T170000
DTSTAMP:20260421T121321
CREATED:20160910T020053Z
LAST-MODIFIED:20160910T020053Z
UID:4576-1476000000-1476032400@pacificpearllajolla.com
SUMMARY:Medical Intuitive Training - Level 1 session 2
DESCRIPTION:Medical Intuitive Training – Level 1\n 4 Month Program – Attend one Two-Day Intensive Workshop per Month\nCall for exact time of classes each day. Instructor Wendie Colter\, 877-433-6611. \nLocation of classes: \nPacific Pearl La Jolla\n6919 La Jolla Blvd. La Jolla\, CA 92037 \nLevel 1 Program begins in September\nThe Medical Intuitive Training program is presented in four weekend modules with extensive in-class experience and coursework\, plus three conference calls between modules. \nMedical Intuitive certificate presented on completion.\n CE Credits for Nurses (CEP# 16478) and Massage Therapists/Bodyworkers (NCBTMB #365).\nTuition: $1597\nInformation: www.ThePracticalPath.com Call: 1-877-433-6611 \n2016 Level 1 Modules \nModule 1: Energy Anatomy and Intuitive Assessments\nProgram A: (Sat/Sun): Sept 10-11\nProgram B: (Mon/Tues): Sept 12-13 (alternate dates)\n\nModule 2: Major Energy Centers and Chronic Patterns\nProgram A (Sat/Sun): Oct. 8-9 \nModule 3: Energetic Structures in the Physical Anatomy\nProgram A (Sat/Sun): Nov. 12-13 \nModule 4: Original Trauma Points and Permissions to Heal\nProgram A (Sat/Sun) Dec. 10-11
URL:https://pacificpearllajolla.com/event/medical-intuitive-training-level-1-session-2-3/
LOCATION:The Studio at Pacific Pearl\, 6919 La Jolla Blvd\, La Jolla\, CA\, 92037\, United States
CATEGORIES:Training
END:VEVENT
BEGIN:VEVENT
DTSTART;TZID=America/Los_Angeles:20161008T080000
DTEND;TZID=America/Los_Angeles:20161008T170000
DTSTAMP:20260421T121321
CREATED:20160910T012953Z
LAST-MODIFIED:20160910T012953Z
UID:4566-1475913600-1475946000@pacificpearllajolla.com
SUMMARY:Medical Intuitive Training Level 1 session 2
DESCRIPTION:Medical Intuitive Training – Level 1\n 4 Month Program – Attend one Two-Day Intensive Workshop per Month\nCall for exact time of classes each day. Instructor Wendie Colter\, 877-433-6611. \nLocation of classes: \nPacific Pearl La Jolla\n6919 La Jolla Blvd. La Jolla\, CA 92037 \nLevel 1 Program begins in September\nThe Medical Intuitive Training program is presented in four weekend modules with extensive in-class experience and coursework\, plus three conference calls between modules. \nMedical Intuitive certificate presented on completion.\n CE Credits for Nurses (CEP# 16478) and Massage Therapists/Bodyworkers (NCBTMB #365).\nTuition: $1597\nInformation: www.ThePracticalPath.com Call: 1-877-433-6611 \n2016 Level 1 Modules \nModule 1: Energy Anatomy and Intuitive Assessments\nProgram A: (Sat/Sun): Sept 10-11\nProgram B: (Mon/Tues): Sept 12-13 (alternate dates)\n\nModule 2: Major Energy Centers and Chronic Patterns\nProgram A (Sat/Sun): Oct. 8-9 \nModule 3: Energetic Structures in the Physical Anatomy\nProgram A (Sat/Sun): Nov. 12-13 \nModule 4: Original Trauma Points and Permissions to Heal\nProgram A (Sat/Sun) Dec. 10-11
URL:https://pacificpearllajolla.com/event/medical-intuitive-training-level-1-session-2/
LOCATION:The Studio at Pacific Pearl\, 6919 La Jolla Blvd\, La Jolla\, CA\, 92037\, United States
CATEGORIES:Training
END:VEVENT
BEGIN:VEVENT
DTSTART;TZID=America/Los_Angeles:20160917T090000
DTEND;TZID=America/Los_Angeles:20160917T170000
DTSTAMP:20260421T121321
CREATED:20160614T014702Z
LAST-MODIFIED:20160831T174806Z
UID:4365-1474102800-1474131600@pacificpearllajolla.com
SUMMARY:EPIGENETICS SUMMIT:  (in-studio & live streaming)
DESCRIPTION:Register online: \n….EPIGENETICS SUMMIT: Bring the Power of Personalized Medicine into Your Practice\, Epigenetics is Evolving the Future of Medicine.\n\n\n(Healthcare Providers: In-studio at Pacific Pearl La Jolla\, and global live streaming)\n…September 17 @ 9:00 am – 4:00 pm at Pacific Pearl La Jolla. A full day session with industry leaders:\nDETAILS & REGISTER ONLINE: http://www.epigeneticsrx.com/event/epigenetics-is-evolving-the-future-of-medicine\n\n…RENOWNED SPEAKERS: \nMimi Guarneri\, MD\, FACC\, ABIHM.\nJeffrey Bland\, PhD\, FACN\, CNS.\nBridget Briggs\, MD\, ABIHM.\nRobert Willix\, MD. \nErica Oberg\, ND.\n\n\n\n \n…Join us for a full day session with industry leaders to learn how Epigenetics is evolving the future of medicine. \n \nMimi Guarneri\, MD  Bridget Briggs\, MD  Jeffrey Bland\,   PhDRobert Willix\, MD Erica Oberg\, ND \nGet the insiders view on how to improve patient outcomes by incorporating epigenetics into your practice. \nJoin the EpigeneticsRx movement changing  patient lives today. \nSTREAMED LIVE WORLDWIDE\nLimited in studio seating available at  Pacific Pearl\, La Jolla\n6919 La Jolla Blvd. La Jolla\, CA 92037\nRegister & reserve your spot today. \nCOST \n$349 – In studio reservation (lunch provided)\n$249 –  Live streaming participation\n \nNote: Presentation recording will be made available to all who register. \n\nREGISTER: http://www.epigeneticsrx.com/summit-invitation/ \n \n  \n  \n  \n 
URL:https://pacificpearllajolla.com/event/epigenetics-rx-boot-camp-live-streaming/
LOCATION:The Studio at Pacific Pearl\, 6919 La Jolla Blvd\, La Jolla\, CA\, 92037\, United States
CATEGORIES:Training
ATTACH;FMTTYPE=image/jpeg:https://pacificpearllajolla.com/wp-content/uploads/2016/06/Epigenetics-Invitation-final.jpg
END:VEVENT
END:VCALENDAR